BEGIN:VCALENDAR
VERSION:2.0
PRODID:-//OmniMagnetCalendar//EN
BEGIN:VEVENT
DTSTAMP:20190625T195740Z
STATUS:CONFIRMED
UID:hcnorthernnevada.clubs.harvard.edu139
DTSTART:20140711T003000Z
DTEND:20140711T023000Z
LOCATION:
SUMMARY:Next Alumni Gathering: July 10, 2014
DESCRIPTION:Let's share appetizers and conversation at Cafe de Thai on July 10.  
BEGIN:VALARM
TRIGGER:-PT15M
ACTION:DISPLAY
END:VALARM
TRANSP:OPAQUE
END:VEVENT
END:VCALENDAR
