BEGIN:VCALENDAR
VERSION:2.0
PRODID:-//OmniMagnetCalendar//EN
BEGIN:VEVENT
DTSTAMP:20190625T195740Z
STATUS:CONFIRMED
UID:hcnorthernnevada.clubs.harvard.edu141
DTSTART:20140912T003000Z
DTEND:20140912T023000Z
LOCATION:
SUMMARY:Alumni Gathering: September 11, 2014
DESCRIPTION:Let's share appetizers and conversation at Moxie's Spirits & Dining in Caughlin Ranch on Thursday, September 11, 2014.
BEGIN:VALARM
TRIGGER:-PT15M
ACTION:DISPLAY
END:VALARM
TRANSP:OPAQUE
END:VEVENT
END:VCALENDAR
