BEGIN:VCALENDAR
VERSION:2.0
PRODID:-//OmniMagnetCalendar//EN
BEGIN:VEVENT
DTSTAMP:20190625T195740Z
STATUS:CONFIRMED
UID:hcnorthernnevada.clubs.harvard.edu142
DTSTART:20141010T003000Z
DTEND:20141010T023000Z
LOCATION:
SUMMARY:Alumni Gathering: October 9, 2014
DESCRIPTION:Let's share appetizers and conversation at Bistro 7 on So. Virgina Street on Thursday, October 9, 2014.
BEGIN:VALARM
TRIGGER:-PT15M
ACTION:DISPLAY
END:VALARM
TRANSP:OPAQUE
END:VEVENT
END:VCALENDAR
