BEGIN:VCALENDAR
VERSION:2.0
PRODID:-//OmniMagnetCalendar//EN
BEGIN:VEVENT
DTSTAMP:20190625T195740Z
STATUS:CONFIRMED
UID:hcnorthernnevada.clubs.harvard.edu143
DTSTART:20141109T230000Z
DTEND:20141010T003000Z
LOCATION:
SUMMARY:Annual Harvard Alumni Meeting: November 9, 2014
DESCRIPTION:Harvard alumni, please attend our annual meeting on Sunday, November 9, 2014.
BEGIN:VALARM
TRIGGER:-PT15M
ACTION:DISPLAY
END:VALARM
TRANSP:OPAQUE
END:VEVENT
END:VCALENDAR
