BEGIN:VCALENDAR
VERSION:2.0
PRODID:-//OmniMagnetCalendar//EN
BEGIN:VEVENT
DTSTAMP:20190625T195740Z
STATUS:CONFIRMED
UID:hcnorthernnevada.clubs.harvard.edu144
DTSTART:20141212T013000Z
DTEND:20141212T033000Z
LOCATION:
SUMMARY:Alumni Gathering: December 11, 2014
DESCRIPTION:Let's share appetizers and conversation at the Intero office on Thursday, December 11, 2014.  Bring coats for coat drive, if possible!
BEGIN:VALARM
TRIGGER:-PT15M
ACTION:DISPLAY
END:VALARM
TRANSP:OPAQUE
END:VEVENT
END:VCALENDAR
