BEGIN:VCALENDAR
VERSION:2.0
PRODID:-//OmniMagnetCalendar//EN
BEGIN:VEVENT
DTSTAMP:20190625T195740Z
STATUS:CONFIRMED
UID:hcnorthernnevada.clubs.harvard.edu146
DTSTART:20141114T213000Z
DTEND:20141114T230000Z
LOCATION:
SUMMARY:Lecture: Digital Instrumentation for Radio Astronomy
DESCRIPTION:CalTech speaker to explain how multi-antenna radio telescopes work and why they are so powerful--all are welcome!
BEGIN:VALARM
TRIGGER:-PT15M
ACTION:DISPLAY
END:VALARM
TRANSP:OPAQUE
END:VEVENT
END:VCALENDAR
