BEGIN:VCALENDAR
VERSION:2.0
PRODID:-//OmniMagnetCalendar//EN
BEGIN:VEVENT
DTSTAMP:20190625T195740Z
STATUS:CONFIRMED
UID:hcnorthernnevada.clubs.harvard.edu147
DTSTART:20141109T230000Z
DTEND:20141010T000000Z
LOCATION:
SUMMARY: Reminder Annual Harvard Alumni Meeting Today, Plus Upcoming Events
DESCRIPTION:Harvard alumni, today is our club's annual meeting.  Hope to see many of you this afternoon. 
BEGIN:VALARM
TRIGGER:-PT15M
ACTION:DISPLAY
END:VALARM
TRANSP:OPAQUE
END:VEVENT
END:VCALENDAR
