BEGIN:VCALENDAR
VERSION:2.0
PRODID:-//OmniMagnetCalendar//EN
BEGIN:VEVENT
DTSTAMP:20190625T195740Z
STATUS:CONFIRMED
UID:hcnorthernnevada.clubs.harvard.edu149
DTSTART:20150401T060000Z
DTEND:20150401T065900Z
LOCATION:
SUMMARY:Dues and Donations for 2015 Accepted Now
DESCRIPTION:Please pay dues at this time for the current year.  
BEGIN:VALARM
TRIGGER:-PT15M
ACTION:DISPLAY
END:VALARM
TRANSP:OPAQUE
END:VEVENT
END:VCALENDAR
