BEGIN:VCALENDAR
VERSION:2.0
PRODID:-//OmniMagnetCalendar//EN
BEGIN:VEVENT
DTSTAMP:20190625T195740Z
STATUS:CONFIRMED
UID:hcnorthernnevada.clubs.harvard.edu156
DTSTART:20150425T003000Z
DTEND:20150425T023000Z
LOCATION:
SUMMARY:Harvard professor Andrew Berry presents evolution since Darwin
DESCRIPTION:Professor Andrew Berry will discuss "What Darwin Didn't Know:  Evolution since The Origin" on April 24, 2015.
BEGIN:VALARM
TRIGGER:-PT15M
ACTION:DISPLAY
END:VALARM
TRANSP:OPAQUE
END:VEVENT
END:VCALENDAR
