BEGIN:VCALENDAR
VERSION:2.0
PRODID:-//OmniMagnetCalendar//EN
BEGIN:VEVENT
DTSTAMP:20190625T195740Z
STATUS:CONFIRMED
UID:hcnorthernnevada.clubs.harvard.edu157
DTSTART:20150213T013000Z
DTEND:20150213T033000Z
LOCATION:
SUMMARY:Alumni Gathering: February 12, 2015
DESCRIPTION:Let's share appetizers and conversation at Bistro 7 on Thursday, February 12, 2015.  We will meet in the bar area as the patio will be busy with another group.
BEGIN:VALARM
TRIGGER:-PT15M
ACTION:DISPLAY
END:VALARM
TRANSP:OPAQUE
END:VEVENT
END:VCALENDAR
