BEGIN:VCALENDAR
VERSION:2.0
PRODID:-//OmniMagnetCalendar//EN
BEGIN:VEVENT
DTSTAMP:20190625T195740Z
STATUS:CONFIRMED
UID:hcnorthernnevada.clubs.harvard.edu160
DTSTART:20150313T003000Z
DTEND:20150313T023000Z
LOCATION:
SUMMARY:Alumni Gathering: March 12, 2015
DESCRIPTION:Let's share appetizers and conversation at The Twisted Fork on Thursday, March 12, 2015.  We will meet in the private room.
BEGIN:VALARM
TRIGGER:-PT15M
ACTION:DISPLAY
END:VALARM
TRANSP:OPAQUE
END:VEVENT
END:VCALENDAR
