BEGIN:VCALENDAR
VERSION:2.0
PRODID:-//OmniMagnetCalendar//EN
BEGIN:VEVENT
DTSTAMP:20190625T195740Z
STATUS:CONFIRMED
UID:hcnorthernnevada.clubs.harvard.edu162
DTSTART:20151018T080000Z
DTEND:20151019T060000Z
LOCATION:
SUMMARY:Advanced Leadership Initiative
DESCRIPTION:Harvard's Advanced Leadership Initiative is seeking a distinguished group of leaders for the 2016 Advanced Leadership Initiative.
BEGIN:VALARM
TRIGGER:-PT15M
ACTION:DISPLAY
END:VALARM
TRANSP:OPAQUE
END:VEVENT
END:VCALENDAR
