BEGIN:VCALENDAR
VERSION:2.0
PRODID:-//OmniMagnetCalendar//EN
BEGIN:VEVENT
DTSTAMP:20190625T195740Z
STATUS:CONFIRMED
UID:hcnorthernnevada.clubs.harvard.edu164
DTSTART:20150410T003000Z
DTEND:20150410T023000Z
LOCATION:
SUMMARY:Alumni Gathering: April 9, 2015
DESCRIPTION:Let's share appetizers and conversation at Moxie's on Thursday, April 9, 2015.  
BEGIN:VALARM
TRIGGER:-PT15M
ACTION:DISPLAY
END:VALARM
TRANSP:OPAQUE
END:VEVENT
END:VCALENDAR
