BEGIN:VCALENDAR
VERSION:2.0
PRODID:-//OmniMagnetCalendar//EN
BEGIN:VEVENT
DTSTAMP:20190625T195740Z
STATUS:CONFIRMED
UID:hcnorthernnevada.clubs.harvard.edu168
DTSTART:20150615T070000Z
DTEND:20150630T070000Z
LOCATION:
SUMMARY:KAP Group seeks college intern
DESCRIPTION:KAP Group is a strategic advisory firm to the private equity industry.  We are seeking one to two part-time interns for the summer, with the potential for an extension into the school year. 
BEGIN:VALARM
TRIGGER:-PT15M
ACTION:DISPLAY
END:VALARM
TRANSP:OPAQUE
END:VEVENT
END:VCALENDAR
