BEGIN:VCALENDAR
VERSION:2.0
PRODID:-//OmniMagnetCalendar//EN
BEGIN:VEVENT
DTSTAMP:20190625T195740Z
STATUS:CONFIRMED
UID:hcnorthernnevada.clubs.harvard.edu170
DTSTART:20150814T003000Z
DTEND:20150814T023000Z
LOCATION:
SUMMARY:Intercollegiate Alumni Gathering: August 13, 2015
DESCRIPTION:Let's celebrate our donors and share appetizers and conversation at the Intero office on Thursday, August 13, 2015.
BEGIN:VALARM
TRIGGER:-PT15M
ACTION:DISPLAY
END:VALARM
TRANSP:OPAQUE
END:VEVENT
END:VCALENDAR
