BEGIN:VCALENDAR
VERSION:2.0
PRODID:-//OmniMagnetCalendar//EN
BEGIN:VEVENT
DTSTAMP:20190625T195740Z
STATUS:CONFIRMED
UID:hcnorthernnevada.clubs.harvard.edu172
DTSTART:20150911T003000Z
DTEND:20150911T023000Z
LOCATION:
SUMMARY:Alumni Gathering: September 10, 2015
DESCRIPTION:Let's share appetizers and conversation at Gas Lamp Restaurant on Thursday, September 10, 2015.  
BEGIN:VALARM
TRIGGER:-PT15M
ACTION:DISPLAY
END:VALARM
TRANSP:OPAQUE
END:VEVENT
END:VCALENDAR
