BEGIN:VCALENDAR
VERSION:2.0
PRODID:-//OmniMagnetCalendar//EN
BEGIN:VEVENT
DTSTAMP:20190625T195740Z
STATUS:CONFIRMED
UID:hcnorthernnevada.clubs.harvard.edu173
DTSTART:20150829T070000Z
DTEND:20150829T070000Z
LOCATION:
SUMMARY:HarvardKey, A New Web Portal
DESCRIPTION:As of September 22nd, Harvard will require alumni to transfer to the new web portal, HarvardKey.  
BEGIN:VALARM
TRIGGER:-PT15M
ACTION:DISPLAY
END:VALARM
TRANSP:OPAQUE
END:VEVENT
END:VCALENDAR
