BEGIN:VCALENDAR
VERSION:2.0
PRODID:-//OmniMagnetCalendar//EN
BEGIN:VEVENT
DTSTAMP:20190625T195740Z
STATUS:CONFIRMED
UID:hcnorthernnevada.clubs.harvard.edu174
DTSTART:20151009T003000Z
DTEND:20151009T023000Z
LOCATION:
SUMMARY:Alumni Gathering: October 8, 2015
DESCRIPTION:Let's share appetizers and conversation at Royce on Thursday, October 8, 2015.  
BEGIN:VALARM
TRIGGER:-PT15M
ACTION:DISPLAY
END:VALARM
TRANSP:OPAQUE
END:VEVENT
END:VCALENDAR
