BEGIN:VCALENDAR
VERSION:2.0
PRODID:-//OmniMagnetCalendar//EN
BEGIN:VEVENT
DTSTAMP:20190625T195740Z
STATUS:CONFIRMED
UID:hcnorthernnevada.clubs.harvard.edu176
DTSTART:20151114T013000Z
DTEND:20151114T033000Z
LOCATION:
SUMMARY:Lecture: 10 Key Words for Understanding China in 2015
DESCRIPTION:Professor Hugh Shapiro will present an engaging lecture on China to our inter-collegiate group.
BEGIN:VALARM
TRIGGER:-PT15M
ACTION:DISPLAY
END:VALARM
TRANSP:OPAQUE
END:VEVENT
END:VCALENDAR
