BEGIN:VCALENDAR
VERSION:2.0
PRODID:-//OmniMagnetCalendar//EN
BEGIN:VEVENT
DTSTAMP:20190625T195740Z
STATUS:CONFIRMED
UID:hcnorthernnevada.clubs.harvard.edu177
DTSTART:20151211T013000Z
DTEND:20151211T033000Z
LOCATION:
SUMMARY:Intercollegiate Alumni Gathering: December 10, 2015
DESCRIPTION:Let's share appetizers and conversation at Intero on Thursday, December 10, 2015.  
BEGIN:VALARM
TRIGGER:-PT15M
ACTION:DISPLAY
END:VALARM
TRANSP:OPAQUE
END:VEVENT
END:VCALENDAR
