BEGIN:VCALENDAR
VERSION:2.0
PRODID:-//OmniMagnetCalendar//EN
BEGIN:VEVENT
DTSTAMP:20190625T195740Z
STATUS:CONFIRMED
UID:hcnorthernnevada.clubs.harvard.edu179
DTSTART:20160130T200100Z
DTEND:20160131T075900Z
LOCATION:
SUMMARY:Dues and Donations for 2016 Accepted Now
DESCRIPTION:Please pay dues at this time for the next year.  
BEGIN:VALARM
TRIGGER:-PT15M
ACTION:DISPLAY
END:VALARM
TRANSP:OPAQUE
END:VEVENT
END:VCALENDAR
