BEGIN:VCALENDAR
VERSION:2.0
PRODID:-//OmniMagnetCalendar//EN
BEGIN:VEVENT
DTSTAMP:20190625T195740Z
STATUS:CONFIRMED
UID:hcnorthernnevada.clubs.harvard.edu180
DTSTART:20151211T010000Z
DTEND:20151010T003000Z
LOCATION:
SUMMARY:Annual Harvard Alumni Meeting Thursday, December 10, 2015
DESCRIPTION:Harvard alumni, please join us for our annual meeting, as required by our by-laws.
BEGIN:VALARM
TRIGGER:-PT15M
ACTION:DISPLAY
END:VALARM
TRANSP:OPAQUE
END:VEVENT
END:VCALENDAR
