BEGIN:VCALENDAR
VERSION:2.0
PRODID:-//OmniMagnetCalendar//EN
BEGIN:VEVENT
DTSTAMP:20190625T195740Z
STATUS:CONFIRMED
UID:hcnorthernnevada.clubs.harvard.edu182
DTSTART:20160114T013000Z
DTEND:20160114T033000Z
LOCATION:
SUMMARY:Alumni Gathering: January 13, 2016
DESCRIPTION:Let's share appetizers and conversation at Bangkok Cuisine South on Wednesday, January 13, 2016.  
BEGIN:VALARM
TRIGGER:-PT15M
ACTION:DISPLAY
END:VALARM
TRANSP:OPAQUE
END:VEVENT
END:VCALENDAR
