BEGIN:VCALENDAR
VERSION:2.0
PRODID:-//OmniMagnetCalendar//EN
BEGIN:VEVENT
DTSTAMP:20190625T195740Z
STATUS:CONFIRMED
UID:hcnorthernnevada.clubs.harvard.edu184
DTSTART:20160211T013000Z
DTEND:20160211T033000Z
LOCATION:
SUMMARY:Alumni Gathering: February 10, 2016
DESCRIPTION:Let's share appetizers and conversation at the Gas Lamp Restaurant on Wednesday, February 10, 2016.  
BEGIN:VALARM
TRIGGER:-PT15M
ACTION:DISPLAY
END:VALARM
TRANSP:OPAQUE
END:VEVENT
END:VCALENDAR
