BEGIN:VCALENDAR
VERSION:2.0
PRODID:-//OmniMagnetCalendar//EN
BEGIN:VEVENT
DTSTAMP:20190625T195740Z
STATUS:CONFIRMED
UID:hcnorthernnevada.clubs.harvard.edu186
DTSTART:20160212T030000Z
DTEND:20160212T043000Z
LOCATION:
SUMMARY:Cancellation of Lecture: This Changes Everything: Capitalism vs the Climate.
DESCRIPTION:University of Nevada, Reno College of Liberal Arts presents “An Evening with Naomi Klein” has been canceled due to laryngitis.  
BEGIN:VALARM
TRIGGER:-PT15M
ACTION:DISPLAY
END:VALARM
TRANSP:OPAQUE
END:VEVENT
END:VCALENDAR
