BEGIN:VCALENDAR
VERSION:2.0
PRODID:-//OmniMagnetCalendar//EN
BEGIN:VEVENT
DTSTAMP:20190625T195740Z
STATUS:CONFIRMED
UID:hcnorthernnevada.clubs.harvard.edu187
DTSTART:20160313T233000Z
DTEND:20160314T013000Z
LOCATION:
SUMMARY:Visiting Harvard Professor Lecture March 13, 2016; please RSVP now
DESCRIPTION:Professor Caroline Light will talk about immigration and naturalization to our inter-collegiate group. Please join us!
BEGIN:VALARM
TRIGGER:-PT15M
ACTION:DISPLAY
END:VALARM
TRANSP:OPAQUE
END:VEVENT
END:VCALENDAR
