BEGIN:VCALENDAR
VERSION:2.0
PRODID:-//OmniMagnetCalendar//EN
BEGIN:VEVENT
DTSTAMP:20190625T195740Z
STATUS:CONFIRMED
UID:hcnorthernnevada.clubs.harvard.edu190
DTSTART:20160421T020000Z
DTEND:20160421T033000Z
LOCATION:
SUMMARY:Lecture: This Changes Everything: Capitalism vs the Climate.
DESCRIPTION:University of Nevada, Reno College of Liberal Arts presents “An Evening with Naomi Klein”
BEGIN:VALARM
TRIGGER:-PT15M
ACTION:DISPLAY
END:VALARM
TRANSP:OPAQUE
END:VEVENT
END:VCALENDAR
