BEGIN:VCALENDAR
VERSION:2.0
PRODID:-//OmniMagnetCalendar//EN
BEGIN:VEVENT
DTSTAMP:20190625T195740Z
STATUS:CONFIRMED
UID:hcnorthernnevada.clubs.harvard.edu191
DTSTART:20160512T003000Z
DTEND:20160512T023000Z
LOCATION:
SUMMARY:Alumni Gathering: May 11, 2016
DESCRIPTION:Let's share appetizers and conversation at The Wild River Grille on Wednesday, May 11, 2016.  We will meet in the front room and move outside if weather permits.
BEGIN:VALARM
TRIGGER:-PT15M
ACTION:DISPLAY
END:VALARM
TRANSP:OPAQUE
END:VEVENT
END:VCALENDAR
