BEGIN:VCALENDAR
VERSION:2.0
PRODID:-//OmniMagnetCalendar//EN
BEGIN:VEVENT
DTSTAMP:20190625T195740Z
STATUS:CONFIRMED
UID:hcnorthernnevada.clubs.harvard.edu194
DTSTART:20160714T003000Z
DTEND:20160714T023000Z
LOCATION:
SUMMARY:Alumni Gathering: July 13, 2016
DESCRIPTION:Let's share appetizers and conversation at Royce on Wednesday, July 13, 2016. 
BEGIN:VALARM
TRIGGER:-PT15M
ACTION:DISPLAY
END:VALARM
TRANSP:OPAQUE
END:VEVENT
END:VCALENDAR
