BEGIN:VCALENDAR
VERSION:2.0
PRODID:-//OmniMagnetCalendar//EN
BEGIN:VEVENT
DTSTAMP:20190625T195740Z
STATUS:CONFIRMED
UID:hcnorthernnevada.clubs.harvard.edu195
DTSTART:20160813T003000Z
DTEND:20160813T023000Z
LOCATION:
SUMMARY:Alumni Gathering: August 12, 2016
DESCRIPTION:Let's enjoy a guest lecture and say farewell to departing students.
BEGIN:VALARM
TRIGGER:-PT15M
ACTION:DISPLAY
END:VALARM
TRANSP:OPAQUE
END:VEVENT
END:VCALENDAR
