BEGIN:VCALENDAR
VERSION:2.0
PRODID:-//OmniMagnetCalendar//EN
BEGIN:VEVENT
DTSTAMP:20190625T195740Z
STATUS:CONFIRMED
UID:hcnorthernnevada.clubs.harvard.edu196
DTSTART:20160813T001500Z
DTEND:20160813T003000Z
LOCATION:
SUMMARY:Special Member Meeting: August 12, 2016
DESCRIPTION:Harvard alumni with dues paid, please meet in advance of the August 12 lecture.
BEGIN:VALARM
TRIGGER:-PT15M
ACTION:DISPLAY
END:VALARM
TRANSP:OPAQUE
END:VEVENT
END:VCALENDAR
