BEGIN:VCALENDAR
VERSION:2.0
PRODID:-//OmniMagnetCalendar//EN
BEGIN:VEVENT
DTSTAMP:20190625T195740Z
STATUS:CONFIRMED
UID:hcnorthernnevada.clubs.harvard.edu197
DTSTART:20160915T003000Z
DTEND:20160915T023000Z
LOCATION:
SUMMARY:Alumni Gathering: September 14, 2016
DESCRIPTION:Let's share appetizers and conversation at Center Court Grill on Wednesday, September 14, 2016. 
BEGIN:VALARM
TRIGGER:-PT15M
ACTION:DISPLAY
END:VALARM
TRANSP:OPAQUE
END:VEVENT
END:VCALENDAR
