BEGIN:VCALENDAR
VERSION:2.0
PRODID:-//OmniMagnetCalendar//EN
BEGIN:VEVENT
DTSTAMP:20190625T195740Z
STATUS:CONFIRMED
UID:hcnorthernnevada.clubs.harvard.edu203
DTSTART:20161110T013000Z
DTEND:20161110T033000Z
LOCATION:
SUMMARY:Alumni Gathering: November 9, 2016
DESCRIPTION:Let's share appetizers and conversation at The Depot on November 9, 2016.
BEGIN:VALARM
TRIGGER:-PT15M
ACTION:DISPLAY
END:VALARM
TRANSP:OPAQUE
END:VEVENT
END:VCALENDAR
