BEGIN:VCALENDAR
VERSION:2.0
PRODID:-//OmniMagnetCalendar//EN
BEGIN:VEVENT
DTSTAMP:20190625T195740Z
STATUS:CONFIRMED
UID:hcnorthernnevada.clubs.harvard.edu204
DTSTART:20161215T010000Z
DTEND:20161215T033000Z
LOCATION:
SUMMARY:Intercollegiate Gathering AND Annual Harvard Alumni Meeting Wednesday, December 14, 2016
DESCRIPTION:Harvard alumni, please join us for our annual meeting, as required by our by-laws. Intercollegiate alumni, please join us for holiday cocktails directly after the annual meeting.
BEGIN:VALARM
TRIGGER:-PT15M
ACTION:DISPLAY
END:VALARM
TRANSP:OPAQUE
END:VEVENT
END:VCALENDAR
