BEGIN:VCALENDAR
VERSION:2.0
PRODID:-//OmniMagnetCalendar//EN
BEGIN:VEVENT
DTSTAMP:20190625T195740Z
STATUS:CONFIRMED
UID:hcnorthernnevada.clubs.harvard.edu208
DTSTART:20170113T013000Z
DTEND:20170113T033000Z
LOCATION:Montreux Golf and Country Club,
SUMMARY:January, 2017, Intercollegiate Alumni Event
DESCRIPTION:Cocktails will be Thursday, January 12 @ Wild River Grille; join us!
BEGIN:VALARM
TRIGGER:-PT15M
ACTION:DISPLAY
END:VALARM
TRANSP:OPAQUE
END:VEVENT
END:VCALENDAR
