BEGIN:VCALENDAR
VERSION:2.0
PRODID:-//OmniMagnetCalendar//EN
BEGIN:VEVENT
DTSTAMP:20190625T195740Z
STATUS:CONFIRMED
UID:hcnorthernnevada.clubs.harvard.edu209
DTSTART:20170421T003000Z
DTEND:20170421T023000Z
LOCATION:
SUMMARY:Harvard Prize Book Ceremony April 20, 2017
DESCRIPTION:The annual Harvard Prize Book Ceremony is coming up soon!  Please join us on April 20, 2017.  RSVP.
BEGIN:VALARM
TRIGGER:-PT15M
ACTION:DISPLAY
END:VALARM
TRANSP:OPAQUE
END:VEVENT
END:VCALENDAR
