BEGIN:VCALENDAR
VERSION:2.0
PRODID:-//OmniMagnetCalendar//EN
BEGIN:VEVENT
DTSTAMP:20190625T195740Z
STATUS:CONFIRMED
UID:hcnorthernnevada.clubs.harvard.edu210
DTSTART:20170310T013000Z
DTEND:20170310T033000Z
LOCATION:
SUMMARY:March 9, 2017, Intercollegiate Alumni Event
DESCRIPTION:Cocktails will be Thursday, March 9 @ Cafe de Thai; join us!
BEGIN:VALARM
TRIGGER:-PT15M
ACTION:DISPLAY
END:VALARM
TRANSP:OPAQUE
END:VEVENT
END:VCALENDAR
