BEGIN:VCALENDAR
VERSION:2.0
PRODID:-//OmniMagnetCalendar//EN
BEGIN:VEVENT
DTSTAMP:20190625T195740Z
STATUS:CONFIRMED
UID:hcnorthernnevada.clubs.harvard.edu211
DTSTART:20170401T190000Z
DTEND:20170401T230000Z
LOCATION:
SUMMARY:Snowshoe with Harvard Club of Silicon Valley, Arpil 1 2017
DESCRIPTION:No kidding! We've been invited to join a Bay Area Harvard club for an outdoor adventure. Please RSVP!
BEGIN:VALARM
TRIGGER:-PT15M
ACTION:DISPLAY
END:VALARM
TRANSP:OPAQUE
END:VEVENT
END:VCALENDAR
