BEGIN:VCALENDAR
VERSION:2.0
PRODID:-//OmniMagnetCalendar//EN
BEGIN:VEVENT
DTSTAMP:20190625T195740Z
STATUS:CONFIRMED
UID:hcnorthernnevada.clubs.harvard.edu212
DTSTART:20170520T190000Z
DTEND:20170520T210000Z
LOCATION:Food Bank of Northern Nevada, 550 Italy Dr, McCarran, Sparks, NV, USA,
SUMMARY:May 20, 2017, Intercollegiate Alumni Volunteer Event
DESCRIPTION:Let's volunteer at the Food Bank in the afternoon. Those interested can meet for brunch in Sparks beforehand!
BEGIN:VALARM
TRIGGER:-PT15M
ACTION:DISPLAY
END:VALARM
TRANSP:OPAQUE
END:VEVENT
END:VCALENDAR
