BEGIN:VCALENDAR
VERSION:2.0
PRODID:-//OmniMagnetCalendar//EN
BEGIN:VEVENT
DTSTAMP:20190625T195740Z
STATUS:CONFIRMED
UID:hcnorthernnevada.clubs.harvard.edu231
DTSTART:20180112T013000Z
DTEND:20180112T033000Z
LOCATION:
SUMMARY:Intercollegiate Alumni Gathering: January 11, 2018
DESCRIPTION:Let's share appetizers and conversation at Chez Louie at the Nevada Museum of Art.
BEGIN:VALARM
TRIGGER:-PT15M
ACTION:DISPLAY
END:VALARM
TRANSP:OPAQUE
END:VEVENT
END:VCALENDAR
