BEGIN:VCALENDAR
VERSION:2.0
PRODID:-//OmniMagnetCalendar//EN
BEGIN:VEVENT
DTSTAMP:20190625T195740Z
STATUS:CONFIRMED
UID:hcnorthernnevada.clubs.harvard.edu235
DTSTART:20180309T013000Z
DTEND:20180309T033000Z
LOCATION:
SUMMARY:Intercollegiate Alumni Gathering: March 8, 2018
DESCRIPTION:Let's share appetizers and conversation.
BEGIN:VALARM
TRIGGER:-PT15M
ACTION:DISPLAY
END:VALARM
TRANSP:OPAQUE
END:VEVENT
END:VCALENDAR
