BEGIN:VCALENDAR
VERSION:2.0
PRODID:-//OmniMagnetCalendar//EN
BEGIN:VEVENT
DTSTAMP:20190625T195740Z
STATUS:CONFIRMED
UID:hcnorthernnevada.clubs.harvard.edu246
DTSTART:20180615T003000Z
DTEND:20180615T023000Z
LOCATION:
SUMMARY:Intercollegiate Alumni Gathering: June 14, 2018
DESCRIPTION:Let's share appetizers and conversation at Napa-Sonoma South on Thursday, June 14, 2018.
BEGIN:VALARM
TRIGGER:-PT15M
ACTION:DISPLAY
END:VALARM
TRANSP:OPAQUE
END:VEVENT
END:VCALENDAR
