BEGIN:VCALENDAR
VERSION:2.0
PRODID:-//OmniMagnetCalendar//EN
BEGIN:VEVENT
DTSTAMP:20190625T195740Z
STATUS:CONFIRMED
UID:hcnorthernnevada.clubs.harvard.edu254
DTSTART:20181019T190000Z
DTEND:20181019T200000Z
LOCATION:
SUMMARY:Intercollegiate Event:  Yale-Sponsored Lecture at the Desert Research Institute
DESCRIPTION:Volcanoes, the Nile River, and the End of Ancient Egypt by Dr. Joseph G. Manning
BEGIN:VALARM
TRIGGER:-PT15M
ACTION:DISPLAY
END:VALARM
TRANSP:OPAQUE
END:VEVENT
END:VCALENDAR
