BEGIN:VCALENDAR
VERSION:2.0
PRODID:-//OmniMagnetCalendar//EN
BEGIN:VEVENT
DTSTAMP:20190625T195740Z
STATUS:CONFIRMED
UID:hcnorthernnevada.clubs.harvard.edu255
DTSTART:20181109T013000Z
DTEND:20181109T033000Z
LOCATION:
SUMMARY:Intercollegiate Alumni Gathering: November 8, 2018 Special Event. RSVP appreciated.
DESCRIPTION:Appetizers and wine hosted by Chris Askin, CEO of the Community Foundation of Western Nevada.
BEGIN:VALARM
TRIGGER:-PT15M
ACTION:DISPLAY
END:VALARM
TRANSP:OPAQUE
END:VEVENT
END:VCALENDAR
