BEGIN:VCALENDAR
VERSION:2.0
PRODID:-//OmniMagnetCalendar//EN
BEGIN:VEVENT
DTSTAMP:20190625T195740Z
STATUS:CONFIRMED
UID:hcnorthernnevada.clubs.harvard.edu259
DTSTART:20190110T013000Z
DTEND:20190110T033000Z
LOCATION:
SUMMARY:Global Networking Night:  January 9, 2019 at Incline
DESCRIPTION:An evening of networking for our Intercollegiate Alumni
BEGIN:VALARM
TRIGGER:-PT15M
ACTION:DISPLAY
END:VALARM
TRANSP:OPAQUE
END:VEVENT
END:VCALENDAR
