BEGIN:VCALENDAR
VERSION:2.0
PRODID:-//OmniMagnetCalendar//EN
BEGIN:VEVENT
DTSTAMP:20190625T195740Z
STATUS:CONFIRMED
UID:hcnorthernnevada.clubs.harvard.edu261
DTSTART:20190118T013000Z
DTEND:20190118T033000Z
LOCATION:
SUMMARY:CANCELED DUE TO WEATHER Intercollegiate Alumni Gathering: January 17, 2019 in Reno
DESCRIPTION:Let's share appetizers and conversation on Thursday, January 17, 2019.
BEGIN:VALARM
TRIGGER:-PT15M
ACTION:DISPLAY
END:VALARM
TRANSP:OPAQUE
END:VEVENT
END:VCALENDAR
