BEGIN:VCALENDAR
VERSION:2.0
PRODID:-//OmniMagnetCalendar//EN
BEGIN:VEVENT
DTSTAMP:20190625T195740Z
STATUS:CONFIRMED
UID:hcnorthernnevada.clubs.harvard.edu263
DTSTART:20190222T013000Z
DTEND:20190222T033000Z
LOCATION:
SUMMARY:Intercollegiate Alumni Gathering: February 21, 2019
DESCRIPTION:Let's share appetizers and conversation on Thursday, February 21, 2019.
BEGIN:VALARM
TRIGGER:-PT15M
ACTION:DISPLAY
END:VALARM
TRANSP:OPAQUE
END:VEVENT
END:VCALENDAR
