BEGIN:VCALENDAR
VERSION:2.0
PRODID:-//OmniMagnetCalendar//EN
BEGIN:VEVENT
DTSTAMP:20190625T195740Z
STATUS:CONFIRMED
UID:hcnorthernnevada.clubs.harvard.edu265
DTSTART:20190412T003000Z
DTEND:20190412T023000Z
LOCATION:
SUMMARY:Intercollegiate Alumni Gathering: April 11 2019, Special Chautauqua Event, RSVP
DESCRIPTION:Join us and meet General Douglas MacArthur and UNR Professor Neal Ferguson.
BEGIN:VALARM
TRIGGER:-PT15M
ACTION:DISPLAY
END:VALARM
TRANSP:OPAQUE
END:VEVENT
END:VCALENDAR
