BEGIN:VCALENDAR
VERSION:2.0
PRODID:-//OmniMagnetCalendar//EN
BEGIN:VEVENT
DTSTAMP:20190625T195740Z
STATUS:CONFIRMED
UID:hcnorthernnevada.clubs.harvard.edu267
DTSTART:20190503T003000Z
DTEND:20190503T023000Z
LOCATION:
SUMMARY:Harvard Prize Book Ceremony May 2, 2019
DESCRIPTION:The annual Harvard Prize Book Ceremony is coming up soon!  Please join us on May 2, 2019.  RSVP.
BEGIN:VALARM
TRIGGER:-PT15M
ACTION:DISPLAY
END:VALARM
TRANSP:OPAQUE
END:VEVENT
END:VCALENDAR
