BEGIN:VCALENDAR
VERSION:2.0
PRODID:-//OmniMagnetCalendar//EN
BEGIN:VEVENT
DTSTAMP:20190625T195740Z
STATUS:CONFIRMED
UID:hcnorthernnevada.clubs.harvard.edu268
DTSTART:20190528T213000Z
DTEND:20190529T010000Z
LOCATION:
SUMMARY:Switch Citadel Tour, Tuesday, May 28, 2019
DESCRIPTION:Join us for the Switch Citadel Tour.  RSVP required.
BEGIN:VALARM
TRIGGER:-PT15M
ACTION:DISPLAY
END:VALARM
TRANSP:OPAQUE
END:VEVENT
END:VCALENDAR
